BEGIN:VCALENDAR
VERSION:2.0
PRODID:-//WBGC - ECPv6.15.20//NONSGML v1.0//EN
CALSCALE:GREGORIAN
METHOD:PUBLISH
X-WR-CALNAME:WBGC
X-ORIGINAL-URL:https://webuildgreencities.com
X-WR-CALDESC:Events for WBGC
REFRESH-INTERVAL;VALUE=DURATION:PT1H
X-Robots-Tag:noindex
X-PUBLISHED-TTL:PT1H
BEGIN:VTIMEZONE
TZID:America/Los_Angeles
BEGIN:DAYLIGHT
TZOFFSETFROM:-0800
TZOFFSETTO:-0700
TZNAME:PDT
DTSTART:20240310T100000
END:DAYLIGHT
BEGIN:STANDARD
TZOFFSETFROM:-0700
TZOFFSETTO:-0800
TZNAME:PST
DTSTART:20241103T090000
END:STANDARD
BEGIN:DAYLIGHT
TZOFFSETFROM:-0800
TZOFFSETTO:-0700
TZNAME:PDT
DTSTART:20250309T100000
END:DAYLIGHT
BEGIN:STANDARD
TZOFFSETFROM:-0700
TZOFFSETTO:-0800
TZNAME:PST
DTSTART:20251102T090000
END:STANDARD
BEGIN:DAYLIGHT
TZOFFSETFROM:-0800
TZOFFSETTO:-0700
TZNAME:PDT
DTSTART:20260308T100000
END:DAYLIGHT
BEGIN:STANDARD
TZOFFSETFROM:-0700
TZOFFSETTO:-0800
TZNAME:PST
DTSTART:20261101T090000
END:STANDARD
END:VTIMEZONE
BEGIN:VEVENT
DTSTART;TZID=America/Los_Angeles:20250610T170000
DTEND;TZID=America/Los_Angeles:20250610T190000
DTSTAMP:20260422T095433
CREATED:20250515T222021Z
LAST-MODIFIED:20250515T222021Z
UID:2371-1749574800-1749582000@webuildgreencities.com
SUMMARY:Sustainable Building Monthly June 2025
DESCRIPTION:For June\, the featured presentation is titled: An overview of Oregon Building Codes Division legislative report about options to reduce greenhouse gas emissions attributable to building materials\, given by Anne Gire. \nAnne Gire joined Oregon Building Codes Division (BCD) in March 2024 as a Sustainability Policy Analyst on the policy and technical services team. BCD exists to work with building officials\, technical committees\, advisory boards\, and the public to adopt\, amend\, and interpret the state building code\, including standards for construction methods\, products\, and materials used for new construction\, and reconstruction\, alteration\, or repair of existing buildings. Anne’s current role at BCD is to study opportunities to align lower carbon material policies with building code compliance pathways in Oregon construction. Anne works closely with others at BCD that are dedicated to mitigating the impact of buildings on the environment\, with a focus on energy efficiency and decarbonization.
URL:https://webuildgreencities.com/event/sustainable-building-monthly-june-2025/
LOCATION:PAE\, 151 Southwest 1st Avenue\, Portland\, OR\, 97204
CATEGORIES:Environmental,General,Green Technologies
ATTACH;FMTTYPE=image/jpeg:https://webuildgreencities.com/wp-content/uploads/2024/06/sustainable_building_monthly.jpg
END:VEVENT
END:VCALENDAR