BEGIN:VCALENDAR
VERSION:2.0
PRODID:-//WBGC - ECPv6.15.20//NONSGML v1.0//EN
CALSCALE:GREGORIAN
METHOD:PUBLISH
X-WR-CALNAME:WBGC
X-ORIGINAL-URL:https://webuildgreencities.com
X-WR-CALDESC:Events for WBGC
REFRESH-INTERVAL;VALUE=DURATION:PT1H
X-Robots-Tag:noindex
X-PUBLISHED-TTL:PT1H
BEGIN:VTIMEZONE
TZID:America/Los_Angeles
BEGIN:DAYLIGHT
TZOFFSETFROM:-0800
TZOFFSETTO:-0700
TZNAME:PDT
DTSTART:20250309T100000
END:DAYLIGHT
BEGIN:STANDARD
TZOFFSETFROM:-0700
TZOFFSETTO:-0800
TZNAME:PST
DTSTART:20251102T090000
END:STANDARD
BEGIN:DAYLIGHT
TZOFFSETFROM:-0800
TZOFFSETTO:-0700
TZNAME:PDT
DTSTART:20260308T100000
END:DAYLIGHT
BEGIN:STANDARD
TZOFFSETFROM:-0700
TZOFFSETTO:-0800
TZNAME:PST
DTSTART:20261101T090000
END:STANDARD
BEGIN:DAYLIGHT
TZOFFSETFROM:-0800
TZOFFSETTO:-0700
TZNAME:PDT
DTSTART:20270314T100000
END:DAYLIGHT
BEGIN:STANDARD
TZOFFSETFROM:-0700
TZOFFSETTO:-0800
TZNAME:PST
DTSTART:20271107T090000
END:STANDARD
END:VTIMEZONE
BEGIN:VEVENT
DTSTART;TZID=America/Los_Angeles:20260708T120000
DTEND;TZID=America/Los_Angeles:20260710T150000
DTSTAMP:20260424T082040
CREATED:20260403T205635Z
LAST-MODIFIED:20260403T205635Z
UID:2797-1783512000-1783695600@webuildgreencities.com
SUMMARY:Great Transformation 2026
DESCRIPTION:Energy Innovation & The Modern Grid\n\n\n\nThe Great Transformation serves as a critical forum for technology\, cleantech and renewable energy industry professionals to accelerate the transition from centralized to distributed energy and computing systems. \nThe 2026 event focuses on navigating the surge in energy demand driven by AI\, data centers\, and the necessity for a more modern and resilient grid infrastructure. \n\n\n\n\n\n\n\n\n\n\n\n\n\n\nRegister
URL:https://webuildgreencities.com/event/great-transformation-2026/
LOCATION:Riverhouse Lodge\, 3075 N. Business 97\, Bend\, OR\, 97703
CATEGORIES:General,Partner Events
ATTACH;FMTTYPE=image/webp:https://webuildgreencities.com/wp-content/uploads/2026/04/4519806725404140a48b0de1eb69d7a7_cea855f64449f99ee90d68b2ebcd6b75.webp
END:VEVENT
END:VCALENDAR